BEGIN:VCALENDAR
VERSION:2.0
PRODID:www.stappen-shoppen.nl
BEGIN:VEVENT
UID:stappen-shoppen.nl/entity/69e61e762eeaf3b7340acc74
DTSTAMP:20260420T215623Z
ORGANIZER;CN=:MAILTO:
DTSTART:20260430T133000Z
DTEND:20260430T150000Z
URL:https://m.bredastudentapp.com/ical/69e61e762eeaf3b7340acc74
SUMMARY:Activiteiten in de meivakantie in De Nobelaer
DESCRIPTION:Samen doen\, kijken en beleven bij De Nobelaer
END:VEVENT
BEGIN:VEVENT
UID:stappen-shoppen.nl/entity/69e61e762eeaf3b7340acc74
DTSTAMP:20260420T215623Z
ORGANIZER;CN=:MAILTO:
DTSTART:20260423T181500Z
DTEND:20260423T200000Z
URL:https://m.bredastudentapp.com/ical/69e61e762eeaf3b7340acc74
SUMMARY:Activiteiten in de meivakantie in De Nobelaer
DESCRIPTION:Samen doen\, kijken en beleven bij De Nobelaer
END:VEVENT
BEGIN:VEVENT
UID:stappen-shoppen.nl/entity/69e61e762eeaf3b7340acc74
DTSTAMP:20260420T215623Z
ORGANIZER;CN=:MAILTO:
DTSTART:20260424T173000Z
DTEND:20260424T200000Z
URL:https://m.bredastudentapp.com/ical/69e61e762eeaf3b7340acc74
SUMMARY:Activiteiten in de meivakantie in De Nobelaer
DESCRIPTION:Samen doen\, kijken en beleven bij De Nobelaer
END:VEVENT
BEGIN:VEVENT
UID:stappen-shoppen.nl/entity/69e61e762eeaf3b7340acc74
DTSTAMP:20260420T215623Z
ORGANIZER;CN=:MAILTO:
DTSTART:20260430T181500Z
DTEND:20260430T200000Z
URL:https://m.bredastudentapp.com/ical/69e61e762eeaf3b7340acc74
SUMMARY:Activiteiten in de meivakantie in De Nobelaer
DESCRIPTION:Samen doen\, kijken en beleven bij De Nobelaer
END:VEVENT
BEGIN:VEVENT
UID:stappen-shoppen.nl/entity/69e61e762eeaf3b7340acc74
DTSTAMP:20260420T215623Z
ORGANIZER;CN=:MAILTO:
DTSTART:20260503T113000Z
DTEND:20260503T130000Z
URL:https://m.bredastudentapp.com/ical/69e61e762eeaf3b7340acc74
SUMMARY:Activiteiten in de meivakantie in De Nobelaer
DESCRIPTION:Samen doen\, kijken en beleven bij De Nobelaer
END:VEVENT
END:VCALENDAR

