BEGIN:VCALENDAR
VERSION:2.0
PRODID:www.stappen-shoppen.nl
BEGIN:VEVENT
UID:stappen-shoppen.nl/entity/69e62c0b9f1daa2c3e038cf8
DTSTAMP:20260420T212651Z
ORGANIZER;CN=:MAILTO:marketing@sojubar.com
DTSTART:20260421T180000Z
DTEND:20260421T215900Z
URL:https://m.bredastudentapp.com/ical/69e62c0b9f1daa2c3e038cf8
SUMMARY:Sojubar Social Club
DESCRIPTION:Food\, drinks & games. Sojubar Social Club in Breda met gratis sojubomb bij binnenkomst.
END:VEVENT
END:VCALENDAR

