BEGIN:VCALENDAR
VERSION:2.0
PRODID:www.stappen-shoppen.nl
BEGIN:VEVENT
UID:stappen-shoppen.nl/entity/69e87c077b7f1643e605d64b
DTSTAMP:20260423T031943Z
ORGANIZER;CN=:MAILTO:marketing@vandervalkbreda.com
DTSTART:20260628T120000Z
DTEND:20260628T150000Z
URL:https://m.bredastudentapp.com/ical/69e87c077b7f1643e605d64b
SUMMARY:High Wine
DESCRIPTION:High Wine bij Van der Valk Breda op 28 juni
END:VEVENT
END:VCALENDAR

