BEGIN:VCALENDAR
VERSION:2.0
PRODID:www.stappen-shoppen.nl
BEGIN:VEVENT
UID:stappen-shoppen.nl/entity/69e8dc002f61c216a50ed8c8
DTSTAMP:20260423T050645Z
ORGANIZER;CN=:MAILTO:info@dehouthallen.nl
DTSTART:20260606T153000Z
DTEND:20260606T215900Z
URL:https://m.bredastudentapp.com/ical/69e8dc002f61c216a50ed8c8
SUMMARY:Dancing Queen Dinershow bij De Houthallen
DESCRIPTION:Beleef een avond vol lekker eten\, bekende hits en een sfeer die vanzelf overgaat van ontspannen genieten naar meezingen en dansen. Bij De Houthallen zit je goed voor een gezellige avond uit die eindigt op de dansvloer. 💃🕺
END:VEVENT
END:VCALENDAR

