BEGIN:VCALENDAR
VERSION:2.0
PRODID:www.stappen-shoppen.nl
BEGIN:VEVENT
UID:stappen-shoppen.nl/entity/69e8e0cb1a0f30cfef0656ec
DTSTAMP:20260423T050645Z
ORGANIZER;CN=:MAILTO:info@dehouthallen.nl
DTSTART:20260510T120000Z
DTEND:20260510T180000Z
URL:https://m.bredastudentapp.com/ical/69e8e0cb1a0f30cfef0656ec
SUMMARY:Moederdag bij De Houthallen!
DESCRIPTION:Op zondag 10 mei staat De Houthallen in het teken van een gezellige en ontspannen Moederdag. Na een heerlijk ontbijt in de ochtend is dit het perfecte moment om samen de middag door te brengen.
END:VEVENT
END:VCALENDAR

