BEGIN:VCALENDAR
VERSION:2.0
PRODID:www.stappen-shoppen.nl
BEGIN:VEVENT
UID:stappen-shoppen.nl/entity/69eb460bd5c5016afa06368d
DTSTAMP:20260425T161801Z
ORGANIZER;CN=:MAILTO:
DTSTART:20260514T100000Z
DTEND:20260514T150000Z
URL:https://m.bredastudentapp.com/ical/69eb460bd5c5016afa06368d
SUMMARY:Geopend op Hemelvaart
DESCRIPTION:
END:VEVENT
END:VCALENDAR

